BEGIN:VCALENDAR
VERSION:2.0
PRODID:-//wp-events-plugin.com//7.2.3.1//EN
BEGIN:VEVENT
UID:3@robertocontreras.com
DTSTART;TZID=America/Tegucigalpa:20260502T180000
DTEND;TZID=America/Tegucigalpa:20260502T220000
DTSTAMP:20260425T030320Z
URL:https://www.robertocontreras.com/eventos/concierto-dia-de-la-madre-2/
SUMMARY:Concierto Día de la Madre
DESCRIPTION:¡Un evento que hará gozar a las madres sampedranas! Eddy Herr
 era deleitará a las presentes con todos sus éxitos\, como un regalo de l
 a Corporación Municipal\, liderada por el alcalde Roberto Contreras. Abri
 rá el concierto la agrupación Los Galos.
ATTACH;FMTTYPE=image/jpeg:https://www.robertocontreras.com/wp-content/uplo
 ads/2026/04/677870933_1983981658898831_5226981656022679377_n.jpg
CATEGORIES:Municipal
LOCATION:Estadio Gral. Francisco Morazán\, GX48+XJ San Pedro Sula\, San Pe
 dro Sula\, Honduras
X-APPLE-STRUCTURED-LOCATION;VALUE=URI;X-ADDRESS=GX48+XJ San Pedro Sula\, Sa
 n Pedro Sula\, Honduras;X-APPLE-RADIUS=100;X-TITLE=Estadio Gral. Francisco
  Morazán:geo:0,0
END:VEVENT
BEGIN:VTIMEZONE
TZID:America/Tegucigalpa
X-LIC-LOCATION:America/Tegucigalpa
BEGIN:STANDARD
DTSTART:20250502T180000
TZOFFSETFROM:-0600
TZOFFSETTO:-0600
TZNAME:CST
END:STANDARD
END:VTIMEZONE
END:VCALENDAR